BEGIN:VCALENDAR
VERSION:2.0
PRODID:-//La Charlemagn&#039;rie asbl - ECPv6.15.20//NONSGML v1.0//EN
CALSCALE:GREGORIAN
METHOD:PUBLISH
X-WR-CALNAME:La Charlemagn&#039;rie asbl
X-ORIGINAL-URL:https://www.charlemagnrie.be
X-WR-CALDESC:Évènements pour La Charlemagn&#039;rie asbl
REFRESH-INTERVAL;VALUE=DURATION:PT1H
X-Robots-Tag:noindex
X-PUBLISHED-TTL:PT1H
BEGIN:VTIMEZONE
TZID:Europe/Brussels
BEGIN:DAYLIGHT
TZOFFSETFROM:+0100
TZOFFSETTO:+0200
TZNAME:CEST
DTSTART:20250330T010000
END:DAYLIGHT
BEGIN:STANDARD
TZOFFSETFROM:+0200
TZOFFSETTO:+0100
TZNAME:CET
DTSTART:20251026T010000
END:STANDARD
BEGIN:DAYLIGHT
TZOFFSETFROM:+0100
TZOFFSETTO:+0200
TZNAME:CEST
DTSTART:20260329T010000
END:DAYLIGHT
BEGIN:STANDARD
TZOFFSETFROM:+0200
TZOFFSETTO:+0100
TZNAME:CET
DTSTART:20261025T010000
END:STANDARD
BEGIN:DAYLIGHT
TZOFFSETFROM:+0100
TZOFFSETTO:+0200
TZNAME:CEST
DTSTART:20270328T010000
END:DAYLIGHT
BEGIN:STANDARD
TZOFFSETFROM:+0200
TZOFFSETTO:+0100
TZNAME:CET
DTSTART:20271031T010000
END:STANDARD
END:VTIMEZONE
BEGIN:VEVENT
DTSTART;TZID=Europe/Brussels:20260425T200000
DTEND;TZID=Europe/Brussels:20260425T233000
DTSTAMP:20260425T011908
CREATED:20260211T110641Z
LAST-MODIFIED:20260217T121548Z
UID:43545-1777147200-1777159800@www.charlemagnrie.be
SUMMARY:La bonne planque - Une comédie des Comédiens d'Héristal - SAM25
DESCRIPTION:Plus d’informations seront communiquées ici ultérieurement.Suivez-nous aussi sur nos réseaux sociaux !								\n				\n					\n				\n				\n		Partager :\n				Partager sur Facebook(ouvre dans une nouvelle fenêtre)\n				Facebook\n			\n				Partager sur LinkedIn(ouvre dans une nouvelle fenêtre)\n				LinkedIn\n			\n				Partager sur X(ouvre dans une nouvelle fenêtre)\n				X\n			\n				Imprimer(ouvre dans une nouvelle fenêtre)\n				Imprimer\n			\n				Envoyer un lien par e-mail à un ami(ouvre dans une nouvelle fenêtre)\n				E-mail
URL:https://www.charlemagnrie.be/evenement/la-bonne-planque-une-comedie-des-comediens-dheristal-sam25/
LOCATION:La Charlemagn’rie ASBL\, Rue Henri Nottet\, 11\, HERSTAL\, Liège\, 4040\, Belgique
CATEGORIES:Activités,Spectacles
ATTACH;FMTTYPE=image/png:https://www.charlemagnrie.be/wp-content/uploads/2026/02/la-bonne-planque-heristal-theatre-2026.png
END:VEVENT
END:VCALENDAR