BEGIN:VCALENDAR
VERSION:2.0
PRODID:-//La Charlemagn&#039;rie asbl - ECPv6.15.20//NONSGML v1.0//EN
CALSCALE:GREGORIAN
METHOD:PUBLISH
X-ORIGINAL-URL:https://www.charlemagnrie.be
X-WR-CALDESC:Évènements pour La Charlemagn&#039;rie asbl
REFRESH-INTERVAL;VALUE=DURATION:PT1H
X-Robots-Tag:noindex
X-PUBLISHED-TTL:PT1H
BEGIN:VTIMEZONE
TZID:Europe/Brussels
BEGIN:DAYLIGHT
TZOFFSETFROM:+0100
TZOFFSETTO:+0200
TZNAME:CEST
DTSTART:20240331T010000
END:DAYLIGHT
BEGIN:STANDARD
TZOFFSETFROM:+0200
TZOFFSETTO:+0100
TZNAME:CET
DTSTART:20241027T010000
END:STANDARD
BEGIN:DAYLIGHT
TZOFFSETFROM:+0100
TZOFFSETTO:+0200
TZNAME:CEST
DTSTART:20250330T010000
END:DAYLIGHT
BEGIN:STANDARD
TZOFFSETFROM:+0200
TZOFFSETTO:+0100
TZNAME:CET
DTSTART:20251026T010000
END:STANDARD
BEGIN:DAYLIGHT
TZOFFSETFROM:+0100
TZOFFSETTO:+0200
TZNAME:CEST
DTSTART:20260329T010000
END:DAYLIGHT
BEGIN:STANDARD
TZOFFSETFROM:+0200
TZOFFSETTO:+0100
TZNAME:CET
DTSTART:20261025T010000
END:STANDARD
END:VTIMEZONE
BEGIN:VEVENT
DTSTART;TZID=Europe/Brussels:20251115T100000
DTEND;TZID=Europe/Brussels:20251115T220000
DTSTAMP:20260423T053228
CREATED:20250929T093841Z
LAST-MODIFIED:20251216T125730Z
UID:42377-1763200800-1763244000@www.charlemagnrie.be
SUMMARY:12h TRICOT - Challenge caritatif
DESCRIPTION:12 heures de tricot\nLe challenge solidaire 2025 de notre atelier « Tricot & Crochet »\nLe 15 novembre 2025\, La Charlemagn’rie vous propose un événement exceptionnel placé sous le signe de la générosité et de la créativité : le Challenge Tricot & Crochet – 12 heures de confection solidaire. \nDurant toute une journée\, les participantes de l’atelier Tricot & Crochet relèveront un défi ambitieux : se relayer pour tricoter sans interruption pendant douze heures\, avec un objectif clair et touchant : produire un maximum de doudous et de poupées en laine destinés à des enfants dans le besoin. Saint-Nicolas et le Père Noël auront de quoi réchauffer quelques p’tits cœurs supplémentaires ! \nUn atelier engagé toute l’année\nL’atelier Tricot & Crochet\, actif chaque mardi et jeudi après-midi\, ne se contente pas d’enseigner des techniques. Il est avant tout un lieu de partage\, de lien social et d’engagement. Les créations réalisées sont offertes à des personnes défavorisées\, dans le cadre du projet global de La Charlemagn’rie visant à apporter chaleur et réconfort là où ils manquent cruellement. \nRejoignez le mouvement\nQue vous soyez tricoteur·trice confirmé·e ou simplement curieux·se de découvrir l’ambiance chaleureuse de l’atelier\, vous êtes les bienvenu·e·s ! Vous pouvez : \n\nParticiper au challenge gratuitement\, une heure\, deux heures ou toute la journée. Tout le matériel est sur place: laine\, aiguilles\,…\nEncourager les participantes sur place.\nFaire don de pelotes de laine\, qui seront utilisées pour les créations solidaires.\n\nInformations pratiques\n\nDate : samedi 15 novembre\nHoraire : de 10h à 22h (et oui\, ça fait bien 12 heures !!)\nLieu : La Charlemagn’rie\, Herstal\nContact : Arlette\, responsable de l’atelier – 0494/165.877\nActivité gratuite\n\n \nPartager :\n				Partager sur Facebook(ouvre dans une nouvelle fenêtre)\n				Facebook\n			\n				Partager sur LinkedIn(ouvre dans une nouvelle fenêtre)\n				LinkedIn\n			\n				Partager sur X(ouvre dans une nouvelle fenêtre)\n				X\n			\n				Imprimer(ouvre dans une nouvelle fenêtre)\n				Imprimer\n			\n				Envoyer un lien par e-mail à un ami(ouvre dans une nouvelle fenêtre)\n				E-mail
URL:https://www.charlemagnrie.be/evenement/12h-tricot-challenge-caritatif/
LOCATION:La Charlemagn’rie ASBL\, Rue Henri Nottet\, 11\, HERSTAL\, Liège\, 4040\, Belgique
CATEGORIES:Archive
ATTACH;FMTTYPE=image/png:https://www.charlemagnrie.be/wp-content/uploads/2025/09/ateliers-t.png
END:VEVENT
END:VCALENDAR