BEGIN:VCALENDAR
VERSION:2.0
PRODID:-//La Charlemagn&#039;rie asbl - ECPv6.15.20//NONSGML v1.0//EN
CALSCALE:GREGORIAN
METHOD:PUBLISH
X-WR-CALNAME:La Charlemagn&#039;rie asbl
X-ORIGINAL-URL:https://www.charlemagnrie.be
X-WR-CALDESC:Évènements pour La Charlemagn&#039;rie asbl
REFRESH-INTERVAL;VALUE=DURATION:PT1H
X-Robots-Tag:noindex
X-PUBLISHED-TTL:PT1H
BEGIN:VTIMEZONE
TZID:Europe/Brussels
BEGIN:DAYLIGHT
TZOFFSETFROM:+0100
TZOFFSETTO:+0200
TZNAME:CEST
DTSTART:20250330T010000
END:DAYLIGHT
BEGIN:STANDARD
TZOFFSETFROM:+0200
TZOFFSETTO:+0100
TZNAME:CET
DTSTART:20251026T010000
END:STANDARD
BEGIN:DAYLIGHT
TZOFFSETFROM:+0100
TZOFFSETTO:+0200
TZNAME:CEST
DTSTART:20260329T010000
END:DAYLIGHT
BEGIN:STANDARD
TZOFFSETFROM:+0200
TZOFFSETTO:+0100
TZNAME:CET
DTSTART:20261025T010000
END:STANDARD
BEGIN:DAYLIGHT
TZOFFSETFROM:+0100
TZOFFSETTO:+0200
TZNAME:CEST
DTSTART:20270328T010000
END:DAYLIGHT
BEGIN:STANDARD
TZOFFSETFROM:+0200
TZOFFSETTO:+0100
TZNAME:CET
DTSTART:20271031T010000
END:STANDARD
END:VTIMEZONE
BEGIN:VEVENT
DTSTART;TZID=Europe/Brussels:20260422T140000
DTEND;TZID=Europe/Brussels:20260422T160000
DTSTAMP:20260421T032835
CREATED:20260210T132041Z
LAST-MODIFIED:20260323T140904Z
UID:43870-1776866400-1776873600@www.charlemagnrie.be
SUMMARY:Freestyle Football
DESCRIPTION:Brocante en extérieur				\n				\n				\n				\n							\n			\n		\n						\n				\n				\n				\n									Réservez votre emplacement de 3 mètres pour 8 euros. Nous attendons pas moins de 80 exposants\, Rue Henri Nottet + parking et pourtour de l’église de la Préalle. Diamnche 28 juin 2026 – de 9h00 à 17h00								\n				\n				\n				\n									\n					\n						\n									RÉSERVATION EN LIGNE\n					\n					\n				\n								\n				\n				\n				\n							\n			\n		\n						\n				\n				\n				\n									Découvrez la simplicité de faire des affaires lors de la brocante de La Charlemagn’rie\, sur la Place de l’église de La Préalle-Bas à Herstal. Vous pouvez vendre à peu près tout ce que vous voulez vendre\, sauf si c’est illégale (champignons magiques\, par exemple… huhu ^^) ou immoral (votre adolescent qui ne débarrasse jamais la table\, par exemple… re-huhu ^^) : meubles\, vêtements\, vaisselle\, objets de décoration\, art vintage\, ancien Hi-Fi\, pièces détachées mécaniques\, outils\, collections de BD\, livres en bon état\, électroménager\, jeux de société\, articles de puériculture\, matériel sportif\,… Jetez un œil sur une carte\, vous habitez peut-être beaucoup plus près que vous ne le pensez. Par exemple\, nous ne somme qu’à 15 minutes du centre de la ville de Liège. Même depuis le quartier de Saint-Nicolas\, depuis Ans/Rocourt\, ou depuis le plateau de Herve\, il est plus rapide de venir à notre brocante que d’aller au centre de Liège. Et seulement 5 ou 6  minutes supplémentaires depuis Seraing… Le dimanche 28 juin 2026\, entre 9h00 et 17h00\, venez chiner\, boire un verre\, vous restaurer\, passer un bon moment… et faire de bonnes affaires !! 								\n				\n				\n				\n							\n			\n		\n						\n				\n				\n				\n					Réservation (vendeurs)				\n				\n				\n				\n							\n			\n		\n						\n				\n				\n				\n									Emplacement : 8€/3mLes réservations pour les emplacements se font en ligne sur cette page. 								\n				\n				\n		\n				\n				\n																\n															\n															\n				\n				\n				\n							\n			\n		\n						\n				\n				\n		\n				\n				\n									\n					\n						\n									RÉSERVATION EN LIGNE\n					\n					\n				\n								\n				\n				\n				\n							\n			\n		\n						\n				\n				\n				\n							\n			\n		\n						\n				\n				\n				\n							\n			\n		\n						\n				\n				\n				\n							\n			\n		\n						\n				\n				\n				\n									\n					\n						\n									RÉSERVATION EN LIGNE\n					\n					\n				\n								\n				\n				\n					\n				\n				\n		Partager :\n				Partager sur Facebook(ouvre dans une nouvelle fenêtre)\n				Facebook\n			\n				Partager sur LinkedIn(ouvre dans une nouvelle fenêtre)\n				LinkedIn\n			\n				Partager sur X(ouvre dans une nouvelle fenêtre)\n				X\n			\n				Imprimer(ouvre dans une nouvelle fenêtre)\n				Imprimer\n			\n				Envoyer un lien par e-mail à un ami(ouvre dans une nouvelle fenêtre)\n				E-mail
URL:https://www.charlemagnrie.be/evenement/freestyle-football/
LOCATION:La Charlemagn’rie ASBL\, Rue Henri Nottet\, 11\, HERSTAL\, Liège\, 4040\, Belgique
CATEGORIES:Activités,Famille,Spectacles
ATTACH;FMTTYPE=image/jpeg:https://www.charlemagnrie.be/wp-content/uploads/2026/03/foot-freestyle.jpg
END:VEVENT
BEGIN:VEVENT
DTSTART;TZID=Europe/Brussels:20260425T200000
DTEND;TZID=Europe/Brussels:20260425T233000
DTSTAMP:20260421T032835
CREATED:20260211T110641Z
LAST-MODIFIED:20260217T121548Z
UID:43545-1777147200-1777159800@www.charlemagnrie.be
SUMMARY:La bonne planque - Une comédie des Comédiens d'Héristal - SAM25
DESCRIPTION:Brocante en extérieur				\n				\n				\n				\n							\n			\n		\n						\n				\n				\n				\n									Réservez votre emplacement de 3 mètres pour 8 euros. Nous attendons pas moins de 80 exposants\, Rue Henri Nottet + parking et pourtour de l’église de la Préalle. Diamnche 28 juin 2026 – de 9h00 à 17h00								\n				\n				\n				\n									\n					\n						\n									RÉSERVATION EN LIGNE\n					\n					\n				\n								\n				\n				\n				\n							\n			\n		\n						\n				\n				\n				\n									Découvrez la simplicité de faire des affaires lors de la brocante de La Charlemagn’rie\, sur la Place de l’église de La Préalle-Bas à Herstal. Vous pouvez vendre à peu près tout ce que vous voulez vendre\, sauf si c’est illégale (champignons magiques\, par exemple… huhu ^^) ou immoral (votre adolescent qui ne débarrasse jamais la table\, par exemple… re-huhu ^^) : meubles\, vêtements\, vaisselle\, objets de décoration\, art vintage\, ancien Hi-Fi\, pièces détachées mécaniques\, outils\, collections de BD\, livres en bon état\, électroménager\, jeux de société\, articles de puériculture\, matériel sportif\,… Jetez un œil sur une carte\, vous habitez peut-être beaucoup plus près que vous ne le pensez. Par exemple\, nous ne somme qu’à 15 minutes du centre de la ville de Liège. Même depuis le quartier de Saint-Nicolas\, depuis Ans/Rocourt\, ou depuis le plateau de Herve\, il est plus rapide de venir à notre brocante que d’aller au centre de Liège. Et seulement 5 ou 6  minutes supplémentaires depuis Seraing… Le dimanche 28 juin 2026\, entre 9h00 et 17h00\, venez chiner\, boire un verre\, vous restaurer\, passer un bon moment… et faire de bonnes affaires !! 								\n				\n				\n				\n							\n			\n		\n						\n				\n				\n				\n					Réservation (vendeurs)				\n				\n				\n				\n							\n			\n		\n						\n				\n				\n				\n									Emplacement : 8€/3mLes réservations pour les emplacements se font en ligne sur cette page. 								\n				\n				\n		\n				\n				\n																\n															\n															\n				\n				\n				\n							\n			\n		\n						\n				\n				\n		\n				\n				\n									\n					\n						\n									RÉSERVATION EN LIGNE\n					\n					\n				\n								\n				\n				\n				\n							\n			\n		\n						\n				\n				\n				\n							\n			\n		\n						\n				\n				\n				\n							\n			\n		\n						\n				\n				\n				\n							\n			\n		\n						\n				\n				\n				\n									\n					\n						\n									RÉSERVATION EN LIGNE\n					\n					\n				\n								\n				\n				\n					\n				\n				\n		Partager :\n				Partager sur Facebook(ouvre dans une nouvelle fenêtre)\n				Facebook\n			\n				Partager sur LinkedIn(ouvre dans une nouvelle fenêtre)\n				LinkedIn\n			\n				Partager sur X(ouvre dans une nouvelle fenêtre)\n				X\n			\n				Imprimer(ouvre dans une nouvelle fenêtre)\n				Imprimer\n			\n				Envoyer un lien par e-mail à un ami(ouvre dans une nouvelle fenêtre)\n				E-mail
URL:https://www.charlemagnrie.be/evenement/la-bonne-planque-une-comedie-des-comediens-dheristal-sam25/
LOCATION:La Charlemagn’rie ASBL\, Rue Henri Nottet\, 11\, HERSTAL\, Liège\, 4040\, Belgique
CATEGORIES:Activités,Spectacles
ATTACH;FMTTYPE=image/png:https://www.charlemagnrie.be/wp-content/uploads/2026/02/la-bonne-planque-heristal-theatre-2026.png
END:VEVENT
BEGIN:VEVENT
DTSTART;TZID=Europe/Brussels:20260426T150000
DTEND;TZID=Europe/Brussels:20260426T183000
DTSTAMP:20260421T032835
CREATED:20260212T110423Z
LAST-MODIFIED:20260217T121556Z
UID:43546-1777215600-1777228200@www.charlemagnrie.be
SUMMARY:La bonne planque - Une comédie des Comédiens d'Héristal - DIM26
DESCRIPTION:Brocante en extérieur				\n				\n				\n				\n							\n			\n		\n						\n				\n				\n				\n									Réservez votre emplacement de 3 mètres pour 8 euros. Nous attendons pas moins de 80 exposants\, Rue Henri Nottet + parking et pourtour de l’église de la Préalle. Diamnche 28 juin 2026 – de 9h00 à 17h00								\n				\n				\n				\n									\n					\n						\n									RÉSERVATION EN LIGNE\n					\n					\n				\n								\n				\n				\n				\n							\n			\n		\n						\n				\n				\n				\n									Découvrez la simplicité de faire des affaires lors de la brocante de La Charlemagn’rie\, sur la Place de l’église de La Préalle-Bas à Herstal. Vous pouvez vendre à peu près tout ce que vous voulez vendre\, sauf si c’est illégale (champignons magiques\, par exemple… huhu ^^) ou immoral (votre adolescent qui ne débarrasse jamais la table\, par exemple… re-huhu ^^) : meubles\, vêtements\, vaisselle\, objets de décoration\, art vintage\, ancien Hi-Fi\, pièces détachées mécaniques\, outils\, collections de BD\, livres en bon état\, électroménager\, jeux de société\, articles de puériculture\, matériel sportif\,… Jetez un œil sur une carte\, vous habitez peut-être beaucoup plus près que vous ne le pensez. Par exemple\, nous ne somme qu’à 15 minutes du centre de la ville de Liège. Même depuis le quartier de Saint-Nicolas\, depuis Ans/Rocourt\, ou depuis le plateau de Herve\, il est plus rapide de venir à notre brocante que d’aller au centre de Liège. Et seulement 5 ou 6  minutes supplémentaires depuis Seraing… Le dimanche 28 juin 2026\, entre 9h00 et 17h00\, venez chiner\, boire un verre\, vous restaurer\, passer un bon moment… et faire de bonnes affaires !! 								\n				\n				\n				\n							\n			\n		\n						\n				\n				\n				\n					Réservation (vendeurs)				\n				\n				\n				\n							\n			\n		\n						\n				\n				\n				\n									Emplacement : 8€/3mLes réservations pour les emplacements se font en ligne sur cette page. 								\n				\n				\n		\n				\n				\n																\n															\n															\n				\n				\n				\n							\n			\n		\n						\n				\n				\n		\n				\n				\n									\n					\n						\n									RÉSERVATION EN LIGNE\n					\n					\n				\n								\n				\n				\n				\n							\n			\n		\n						\n				\n				\n				\n							\n			\n		\n						\n				\n				\n				\n							\n			\n		\n						\n				\n				\n				\n							\n			\n		\n						\n				\n				\n				\n									\n					\n						\n									RÉSERVATION EN LIGNE\n					\n					\n				\n								\n				\n				\n					\n				\n				\n		Partager :\n				Partager sur Facebook(ouvre dans une nouvelle fenêtre)\n				Facebook\n			\n				Partager sur LinkedIn(ouvre dans une nouvelle fenêtre)\n				LinkedIn\n			\n				Partager sur X(ouvre dans une nouvelle fenêtre)\n				X\n			\n				Imprimer(ouvre dans une nouvelle fenêtre)\n				Imprimer\n			\n				Envoyer un lien par e-mail à un ami(ouvre dans une nouvelle fenêtre)\n				E-mail
URL:https://www.charlemagnrie.be/evenement/la-bonne-planque-une-comedie-des-comediens-dheristal-dim26/
LOCATION:La Charlemagn’rie ASBL\, Rue Henri Nottet\, 11\, HERSTAL\, Liège\, 4040\, Belgique
CATEGORIES:Activités,Spectacles
ATTACH;FMTTYPE=image/png:https://www.charlemagnrie.be/wp-content/uploads/2026/02/la-bonne-planque-heristal-theatre-2026.png
END:VEVENT
BEGIN:VEVENT
DTSTART;TZID=Europe/Brussels:20260427T083000
DTEND;TZID=Europe/Brussels:20260430T150000
DTSTAMP:20260421T032835
CREATED:20260214T121701Z
LAST-MODIFIED:20260324T075953Z
UID:43615-1777278600-1777561200@www.charlemagnrie.be
SUMMARY:Cours de remédiation - printemps 2026
DESCRIPTION:Brocante en extérieur				\n				\n				\n				\n							\n			\n		\n						\n				\n				\n				\n									Réservez votre emplacement de 3 mètres pour 8 euros. Nous attendons pas moins de 80 exposants\, Rue Henri Nottet + parking et pourtour de l’église de la Préalle. Diamnche 28 juin 2026 – de 9h00 à 17h00								\n				\n				\n				\n									\n					\n						\n									RÉSERVATION EN LIGNE\n					\n					\n				\n								\n				\n				\n				\n							\n			\n		\n						\n				\n				\n				\n									Découvrez la simplicité de faire des affaires lors de la brocante de La Charlemagn’rie\, sur la Place de l’église de La Préalle-Bas à Herstal. Vous pouvez vendre à peu près tout ce que vous voulez vendre\, sauf si c’est illégale (champignons magiques\, par exemple… huhu ^^) ou immoral (votre adolescent qui ne débarrasse jamais la table\, par exemple… re-huhu ^^) : meubles\, vêtements\, vaisselle\, objets de décoration\, art vintage\, ancien Hi-Fi\, pièces détachées mécaniques\, outils\, collections de BD\, livres en bon état\, électroménager\, jeux de société\, articles de puériculture\, matériel sportif\,… Jetez un œil sur une carte\, vous habitez peut-être beaucoup plus près que vous ne le pensez. Par exemple\, nous ne somme qu’à 15 minutes du centre de la ville de Liège. Même depuis le quartier de Saint-Nicolas\, depuis Ans/Rocourt\, ou depuis le plateau de Herve\, il est plus rapide de venir à notre brocante que d’aller au centre de Liège. Et seulement 5 ou 6  minutes supplémentaires depuis Seraing… Le dimanche 28 juin 2026\, entre 9h00 et 17h00\, venez chiner\, boire un verre\, vous restaurer\, passer un bon moment… et faire de bonnes affaires !! 								\n				\n				\n				\n							\n			\n		\n						\n				\n				\n				\n					Réservation (vendeurs)				\n				\n				\n				\n							\n			\n		\n						\n				\n				\n				\n									Emplacement : 8€/3mLes réservations pour les emplacements se font en ligne sur cette page. 								\n				\n				\n		\n				\n				\n																\n															\n															\n				\n				\n				\n							\n			\n		\n						\n				\n				\n		\n				\n				\n									\n					\n						\n									RÉSERVATION EN LIGNE\n					\n					\n				\n								\n				\n				\n				\n							\n			\n		\n						\n				\n				\n				\n							\n			\n		\n						\n				\n				\n				\n							\n			\n		\n						\n				\n				\n				\n							\n			\n		\n						\n				\n				\n				\n									\n					\n						\n									RÉSERVATION EN LIGNE\n					\n					\n				\n								\n				\n				\n					\n				\n				\n		Partager :\n				Partager sur Facebook(ouvre dans une nouvelle fenêtre)\n				Facebook\n			\n				Partager sur LinkedIn(ouvre dans une nouvelle fenêtre)\n				LinkedIn\n			\n				Partager sur X(ouvre dans une nouvelle fenêtre)\n				X\n			\n				Imprimer(ouvre dans une nouvelle fenêtre)\n				Imprimer\n			\n				Envoyer un lien par e-mail à un ami(ouvre dans une nouvelle fenêtre)\n				E-mail
URL:https://www.charlemagnrie.be/evenement/cours-de-remediation-printemps-2026/
LOCATION:La Charlemagn’rie ASBL\, Rue Henri Nottet\, 11\, HERSTAL\, Liège\, 4040\, Belgique
CATEGORIES:Activités,Famille,Jeunesse,Remédiation scolaire
ATTACH;FMTTYPE=image/png:https://www.charlemagnrie.be/wp-content/uploads/2026/03/remediation-scolaire-carre.png
END:VEVENT
END:VCALENDAR